BEGIN:VCALENDAR
VERSION:2.0
PRODID:-//jEvents 2.0 for Joomla//EN
CALSCALE:GREGORIAN
METHOD:PUBLISH
BEGIN:VTIMEZONE
TZID:Europe/Amsterdam
BEGIN:STANDARD
DTSTART:20251026T020000
RDATE:20260329T030000
TZOFFSETFROM:+0200
TZOFFSETTO:+0100
TZNAME:Europe/Amsterdam CET
END:STANDARD
BEGIN:DAYLIGHT
DTSTART:20250501T130000
RDATE:20251026T020000
TZOFFSETFROM:+0100
TZOFFSETTO:+0200
TZNAME:Europe/Amsterdam CEST
END:DAYLIGHT
END:VTIMEZONE
BEGIN:VEVENT
UID:2us48tv4r4qtfscn0najdtd720@google.com
CATEGORIES:Verhuurkalender
CREATED:20260407T160059
SUMMARY:Eigen verhuur (Scouts)
DESCRIPTION;ENCODING=QUOTED-PRINTABLE:
DTSTAMP:20260419T183050Z
DTSTART;TZID=Europe/Amsterdam:20260502T130000
DTEND;TZID=Europe/Amsterdam:20260503T133000
SEQUENCE:0
TRANSP:OPAQUE
END:VEVENT
END:VCALENDAR